BEGIN:VCALENDAR
VERSION:2.0
PRODID:-//RIGHTHERE//CALENDARIZE IT V3.2//EN
BEGIN:VTIMEZONE
TZID:Europe/London
X-MICROSOFT-CDO-TZID:1
BEGIN:STANDARD
DTSTART:20251026T010000
TZOFFSETFROM:+0100
TZOFFSETTO:+0000
TZNAME:GMT
END:STANDARD
BEGIN:DAYLIGHT
DTSTART:20260329T010000
TZOFFSETFROM:+0000
TZOFFSETTO:+0100
TZNAME:BST
END:DAYLIGHT
BEGIN:STANDARD
DTSTART:20261025T010000
TZOFFSETFROM:+0100
TZOFFSETTO:+0000
TZNAME:GMT
END:STANDARD
END:VTIMEZONE
BEGIN:VEVENT
UID:269-events@www.westsussexminibus.org.uk
DTSTART;TZID=Europe/London:20160506T130000
DTEND;TZID=Europe/London:20160506T170000
DTSTAMP;TZID=Europe/London:20160509T183528
SUMMARY:Washington to Storrington (PM)
RRULE:FREQ=WEEKLY;INTERVAL=2
URL:https://www.westsussexminibus.org.uk/events/washington-to-storrington-p
 m/
ORGANIZER;CN=Liz Hamilton:
LOCATION:Storrington
END:VEVENT
END:VCALENDAR